BEGIN:VCALENDAR
VERSION:2.0
PRODID:-//Hatfield McCoy CVB - ECPv6.15.20//NONSGML v1.0//EN
CALSCALE:GREGORIAN
METHOD:PUBLISH
X-ORIGINAL-URL:https://hatfieldmccoycvb.com
X-WR-CALDESC:Events for Hatfield McCoy CVB
REFRESH-INTERVAL;VALUE=DURATION:PT1H
X-Robots-Tag:noindex
X-PUBLISHED-TTL:PT1H
BEGIN:VTIMEZONE
TZID:UTC
BEGIN:STANDARD
TZOFFSETFROM:+0000
TZOFFSETTO:+0000
TZNAME:UTC
DTSTART:20190101T000000
END:STANDARD
END:VTIMEZONE
BEGIN:VEVENT
DTSTART;TZID=UTC:20201213T100000
DTEND;TZID=UTC:20201213T120000
DTSTAMP:20260421T083755
CREATED:20201119T204620Z
LAST-MODIFIED:20201119T204620Z
UID:1235-1607853600-1607860800@hatfieldmccoycvb.com
SUMMARY:Sunday Morning Beginner's Hike
DESCRIPTION:If you are considering hiking\, paced walks or would like to be more active; this is the hike for you. Join Naturalist Lauren Cole for this beginners hike to get started on the right foot! Learn basic hiking\, outdoor safety and Leave No Trace principles. This is an easy hike on the gas well road. It’s approximately one mile and suitable for all ages. \nIf you’ve hiked Cliffside before\, remember as the seasons change\, so do discoveries along the trail. There is no fee to participate.
URL:https://hatfieldmccoycvb.com/event/sunday-morning-beginners-hike-4/
LOCATION:Chief Logan State Park
END:VEVENT
BEGIN:VEVENT
DTSTART;TZID=UTC:20201218T150000
DTEND;TZID=UTC:20201218T170000
DTSTAMP:20260421T083755
CREATED:20201119T205255Z
LAST-MODIFIED:20201119T205255Z
UID:1238-1608303600-1608310800@hatfieldmccoycvb.com
SUMMARY:Tour the Steam Engine at Chief Logan State Park
DESCRIPTION:Tours of the C&O #2755\, an authentic steam engine\, finds Naturalist Lauren Cole greeting visitors to view the locomotive. Walking up and down a flight of stairs is required. Tours will be small\, groups of 10 or less and will occur every 15 to 30 minutes. Participation requires wearing a mask and observing social distancing. \nIf the county school map is orange or red\, this activity will be canceled. See education map for current metrics. \nSchool Re-entry Metrics & Protocols
URL:https://hatfieldmccoycvb.com/event/tour-the-steam-engine-at-chief-logan-state-park/
LOCATION:Chief Logan State Park
END:VEVENT
BEGIN:VEVENT
DTSTART;TZID=UTC:20201218T190000
DTEND;TZID=UTC:20201218T203000
DTSTAMP:20260421T083755
CREATED:20201216T145022Z
LAST-MODIFIED:20201216T151910Z
UID:1258-1608318000-1608323400@hatfieldmccoycvb.com
SUMMARY:Christmas in the Park with Brayden Williamson and Friends
DESCRIPTION:Join us for some old fashioned live Christmas Music at the cabin porch in the Chief Logan State Park on Friday\, December 18 and Monday\, December 21\, 2020!  Music will feature songs from Brayden Williamson’s Christmas Album!
URL:https://hatfieldmccoycvb.com/event/chirstmas-in-the-park-old-fashioned-live-christmas-music/
LOCATION:Chief Logan State Park
END:VEVENT
BEGIN:VEVENT
DTSTART;TZID=UTC:20201219T130000
DTEND;TZID=UTC:20201219T140000
DTSTAMP:20260421T083755
CREATED:20201119T200956Z
LAST-MODIFIED:20201119T200956Z
UID:1223-1608382800-1608386400@hatfieldmccoycvb.com
SUMMARY:Nature Hike at Chief Logan State Park
DESCRIPTION:An early winter hike is a great Saturday afternoon outdoor activity. \n\nMeet Naturalist Lauren Cole at the Museum for a paced hike on the Cliffside Trail. This is an easy guided nature hike that is one mile in length and suitable for beginners.  Learn about trees\, birds\, flowers\, insects and more! Some parts of the trail may have rocks\, roots\, or be close to sheer drops. \nIf you’ve hiked Cliffside before\, remember as the seasons change\, so do discoveries along the trail. There is no fee to participate. Masks are necessary and distancing will be observed.
URL:https://hatfieldmccoycvb.com/event/nature-hike-at-chief-logan-state-park-2/
LOCATION:Chief Logan State Park
END:VEVENT
BEGIN:VEVENT
DTSTART;TZID=UTC:20201219T190000
DTEND;TZID=UTC:20201219T210000
DTSTAMP:20260421T083755
CREATED:20201119T201927Z
LAST-MODIFIED:20201119T203343Z
UID:1227-1608404400-1608411600@hatfieldmccoycvb.com
SUMMARY:A Starry Saturday Night at the Lodge
DESCRIPTION:Join us at the Chief Logan Lodge fire pit to look through a computerized telescope at various celestial bodies including the moon\, planets\, galaxies and more.  Learn seasonal constellations and other cool facts about the night sky.  Mars\, Jupiter\, Saturn should be visible if the sky is clear. In case of rain\, this activity is cancelled.
URL:https://hatfieldmccoycvb.com/event/a-starry-saturday-night-at-the-lodge-2/
LOCATION:Chief Logan Lodge & Conference Center\, 1000 Conference Center Drive\, Logan\, WV\, 25601\, United States
END:VEVENT
BEGIN:VEVENT
DTSTART;TZID=UTC:20201220T100000
DTEND;TZID=UTC:20201220T120000
DTSTAMP:20260421T083755
CREATED:20201119T204922Z
LAST-MODIFIED:20201119T204922Z
UID:1237-1608458400-1608465600@hatfieldmccoycvb.com
SUMMARY:Sunday Morning Beginner's Hike
DESCRIPTION:If you are considering hiking\, paced walks or would like to be more active; this is the hike for you. Join Naturalist Lauren Cole for this beginners hike to get started on the right foot! Learn basic hiking\, outdoor safety and Leave No Trace principles. This is an easy hike on the gas well road. It’s approximately one mile and suitable for all ages. \nIf you’ve hiked Cliffside before\, remember as the seasons change\, so do discoveries along the trail. There is no fee to participate.
URL:https://hatfieldmccoycvb.com/event/sunday-morning-beginners-hike-5/
LOCATION:Chief Logan State Park
END:VEVENT
BEGIN:VEVENT
DTSTART;TZID=UTC:20201221T190000
DTEND;TZID=UTC:20201221T203000
DTSTAMP:20260421T083755
CREATED:20201216T151658Z
LAST-MODIFIED:20201216T151658Z
UID:1262-1608577200-1608582600@hatfieldmccoycvb.com
SUMMARY:Christmas in the Park with Brayden Williamson and friends!
DESCRIPTION:Join us for some old fashioned live Christmas Music at the cabin porch in the Chief Logan State Park on Friday\, December 18 and Monday\, December 21\, 2020!  Music will feature songs from Brayden Williamson’s Christmas Album!
URL:https://hatfieldmccoycvb.com/event/christmas-in-the-park-with-brayden-williamson-and-friends/
LOCATION:Chief Logan State Park
END:VEVENT
BEGIN:VEVENT
DTSTART;TZID=UTC:20201222T190000
DTEND;TZID=UTC:20201222T210000
DTSTAMP:20260421T083755
CREATED:20201208T202638Z
LAST-MODIFIED:20201208T204917Z
UID:1252-1608663600-1608670800@hatfieldmccoycvb.com
SUMMARY:Landau Eugene Murphy's Virtual Home for the Holidays
DESCRIPTION:Even in 2020\, which has been a tough year\, there is still a way to make holiday memories from the comfort of your own home!  We are pleased to present America’s Got Talent winner and Columbia recording artist LANDAU EUGENE MURPHY JR’S 10th “Home for the Holidays” virtual performance on December 22nd\, 2020 \n  \nDecember 22: Presented by Logan County Chamber for the Hungry Lambs Initiative \n  \nThis special evening of holiday cheer will be filled with holiday hits and Christmas classics from the crooner’s top-selling “Christmas Made For Two” album\, and his special brand of “Murphy Magic”! \n  \nVIP PACKAGES FOR EACH SHOW IS AVAILABLE FOR JUST $40\n(includes a virtual backstage pass and Christmas stocking filled with Landau holiday goodies!) \nTo purchase your VIP pass to “Home for the Holidays”\, click below)\nhttps://www.landaumurphyjr.com/2020/12/04/vippackage/ \n 
URL:https://hatfieldmccoycvb.com/event/landaus-virtual-home-for-the-holidays/
LOCATION:WV
ORGANIZER;CN="Logan County Chamber of Commerce":MAILTO:logancountychamber@frontier.com
END:VEVENT
BEGIN:VEVENT
DTSTART;TZID=UTC:20210101T100000
DTEND;TZID=UTC:20210101T110000
DTSTAMP:20260421T083755
CREATED:20201105T210652Z
LAST-MODIFIED:20201105T210652Z
UID:1196-1609495200-1609498800@hatfieldmccoycvb.com
SUMMARY:January 1\, 2021 First Day Hike at Chief Logan State Park
DESCRIPTION:Take your first step into the New Year with a hike at Chief Logan State Park on January 1\, 2021. We will depart from Museum in the Park at 10:00 a.m for our wintry walk. \nThe Cliffside Trail is an easy hike but some parts of the trail may have rocks\, roots\, or be close to sheer drops. We’ll hike approximately one mile making the adventure suitable for all ages to get outside on the first day of the year and learn a little about nature in winter and Chief Logan State Park. \nPlease dress for weather conditions. Young children should be accompanied by an adult. All ages are welcome. No reservations required for this walk. Please carry water and a snack. For more information email lauren.e.cole@wv.gov. Hikers get a First Day Hike patch at the conclusion of the activity. \n 
URL:https://hatfieldmccoycvb.com/event/january-1-2021-first-day-hike-at-chief-logan-state-park/
LOCATION:Chief Logan State Park
END:VEVENT
BEGIN:VEVENT
DTSTART;TZID=UTC:20210102T100000
DTEND;TZID=UTC:20210102T123000
DTSTAMP:20260421T083755
CREATED:20201119T205743Z
LAST-MODIFIED:20201119T205743Z
UID:1239-1609581600-1609590600@hatfieldmccoycvb.com
SUMMARY:2nd Chance Hike at Chief Logan State Park
DESCRIPTION:If you didn’t step out on January 1\, this is a second chance hike on January 2\, 2021. Departing from the Chief Logan park office/Museum-in-the-Park\, the wintry walk begins at 10:00 a.m. on the Woodpecker Trail. \nThis hike is approximately 3 miles. Some parts of the trail may be steep\, have rocks\, roots\, or be close to sheer drops. We will be observing nature as we take the winding Woodpecker Trail deep into the woods and over some small streams. During the hike we may observe birds\, insects\, small mammals and wildlife tracks. \nPlease dress for weather conditions and wear good hiking boots or hiking shoes. Young children should be accompanied by an adult. All ages are welcome. No reservations required for this walk. Please carry water and a snack. To learn more\, email lauren.e.cole@wv.gov.
URL:https://hatfieldmccoycvb.com/event/2nd-chance-hike-at-chief-logan-state-park/
LOCATION:Chief Logan State Park
END:VEVENT
BEGIN:VEVENT
DTSTART;TZID=UTC:20210103T100000
DTEND;TZID=UTC:20210103T120000
DTSTAMP:20260421T083755
CREATED:20201119T210255Z
LAST-MODIFIED:20201119T210255Z
UID:1240-1609668000-1609675200@hatfieldmccoycvb.com
SUMMARY:Third Strike Hike at the Park
DESCRIPTION:If you didn’t step out on January 1 or 2\, 2021\, this is a third opportunity to take a hike on New Year’s Weekend. Departing from Chief Logan Lodge\, the wintry walk begins at 10:00 a.m. and will be on the gas well road. Please meet at the flag pole. \nIt is an easy hike that includes learning about basic hiking\, outdoor safety and Leave No Trace principles. We’ll watch and listen for birds\, identify trees using winter identification skills\, and look for wildlife or their tracks. The hike is about one mile long. \nPlease dress for weather conditions and wear good hiking boots or hiking shoes. Young children should be accompanied by an adult. All ages welcome. No reservations required for this walk. Please carry water and a snack. To learn more\, email lauren.e.cole@wv.gov.
URL:https://hatfieldmccoycvb.com/event/third-strike-hike-at-the-park/
LOCATION:Chief Logan Lodge & Conference Center\, 1000 Conference Center Drive\, Logan\, WV\, 25601\, United States
END:VEVENT
BEGIN:VEVENT
DTSTART;TZID=UTC:20210320T110000
DTEND;TZID=UTC:20210320T120000
DTSTAMP:20260421T083755
CREATED:20210319T141841Z
LAST-MODIFIED:20210319T141841Z
UID:1376-1616238000-1616241600@hatfieldmccoycvb.com
SUMMARY:Green Day Hike at Chief Logan State Park
DESCRIPTION:Join us for a Green Day Hike starting at 11:00 am from Chief Logan Museum/Gift Shop.  A great activity for a Saturday morning and an opportunity to get outdoors. \nThis hike is about shamrocks and spring greening\, the Green Day Hike includes a little information about natural history at Chief Logan and setting foot on a trail as spring approaches. Celebrate the Spring Equinox with a very easy walk. All ages welcome. There is no fee to participate. \nJoin Naturalist Lauren Cole for a things green in spring hike. Participants completing the activity receive a “Green Day Hike” patch with a shamrock on it for good luck. The activity is free to attend and open to the public. \n 
URL:https://hatfieldmccoycvb.com/event/green-day-hike-at-chief-logan-state-park/
LOCATION:Chief Logan State Park
END:VEVENT
BEGIN:VEVENT
DTSTART;TZID=UTC:20210327T110000
DTEND;TZID=UTC:20210327T120000
DTSTAMP:20260421T083755
CREATED:20210319T143126Z
LAST-MODIFIED:20210319T143126Z
UID:1377-1616842800-1616846400@hatfieldmccoycvb.com
SUMMARY:Guided Nature Hike at Chief Logan State Park
DESCRIPTION:Join Naturalist Lauren Cole for a 3 mile nature hike on the Woodpecker Trail in the Chief Logan State Park beginning at 11:00 am from the Museum/Gift Shop.  The Woodpecker Trail is a challenging trail but there will be stops along the way to identify vegetation or leaves.  Wear comfortable and closed-toe walking or hiking shoes and dress for the weather.  The hike will take place rain or shine! \n\n\n\nNo fee to participate.  Masks are required\, however\, as the walk progresses social distancing is possible and hikers may determine mask use.  Wearing a mask protects the people around you. \n  \n 
URL:https://hatfieldmccoycvb.com/event/guided-nature-hike-at-chief-logan-state-park/
LOCATION:Chief Logan State Park
END:VEVENT
BEGIN:VEVENT
DTSTART;TZID=UTC:20210328T090000
DTEND;TZID=UTC:20210328T100000
DTSTAMP:20260421T083755
CREATED:20210319T144816Z
LAST-MODIFIED:20210319T144816Z
UID:1378-1616922000-1616925600@hatfieldmccoycvb.com
SUMMARY:Birding for Beginners at Chief Logan Lodge
DESCRIPTION:Join park Naturalist Lauren Cole on a beginner birding experience at 9:00 am in the main lobby of  Chief Logan State Lodge & Conference Center.  Learn binocular use\, basic birding techniques\, easy bird identification\, and more\, as we take a gentle hike up the hill around the cabins.  Bring your binoculars!  We will also have binoculars to loan.  Open to the public and admission is free. \nA good program for folks in garden clubs\, hiking groups\, master naturalists\, or curious folks. A great outdoor activity for families. \nIf you have an interest in interpretive activities and programs like these\, email lauren.e.cole@wv.gov. \n  \n 
URL:https://hatfieldmccoycvb.com/event/birding-for-beginners-at-chief-logan-lodge/
LOCATION:Chief Logan Lodge & Conference Center\, 1000 Conference Center Drive\, Logan\, WV\, 25601\, United States
END:VEVENT
BEGIN:VEVENT
DTSTART;TZID=UTC:20210328T140000
DTEND;TZID=UTC:20210328T140000
DTSTAMP:20260421T083755
CREATED:20210218T171233Z
LAST-MODIFIED:20210218T171233Z
UID:1304-1616940000-1616940000@hatfieldmccoycvb.com
SUMMARY:Little Lectures presented by West Virginia Humanities Council
DESCRIPTION:The 2021 Little Lecture series kicks off Sunday\, March 28\, at 2 p.m. with historian and author Charles B. “Chuck” Keeney speaking on his newest book The Road to Blair Mountain: Saving a Mine Wars Battlefield from King Coal. \n \nIf COVID-19 conditions allow\, lectures will be held at the historic MacFarland-Hubbard house in Charleston with videos of each lecture to be released the following week on YouTube\, Facebook\, and the Council’s website.  If health mandates prevent in-person events\, virtual premieres will be held on each lecture date\, just as they were throughout 2020.  This year’s four lectures will be presented once each month from March through June.  For the full schedule and updates regardin in-person attendance\, please visit our website at www.wvhumanities.org. 
URL:https://hatfieldmccoycvb.com/event/little-lectures-presented-by-west-virginia-humanities-council/
LOCATION:McFarland-Hubbard House\, 1310 Kanawha Blvd. E.\, Charleston\, WV\, 25301\, United States
END:VEVENT
BEGIN:VEVENT
DTSTART;TZID=UTC:20210401T170000
DTEND;TZID=UTC:20210401T200000
DTSTAMP:20260421T083755
CREATED:20210322T153415Z
LAST-MODIFIED:20210322T153415Z
UID:1388-1617296400-1617307200@hatfieldmccoycvb.com
SUMMARY:City of Logan Easter Bunny Pictures & Candy Parade
DESCRIPTION:Come and join the City of Logan for some Easter fun!  The Easter Bunny will be available for pictures from 5pm-7pm at the Welcome Lot Gazebo in Downtown Logan.\n\nThe candy egg parade will be from 7-8. Kids will be able to walk through “table trunk or treat” style participants to collect filled eggs. Please bring your own Easter basket to collect the eggs.\n\nPictures will be taken by Dylan Vidovich Photography. You will be able to download your digital picture from a uploaded link provided after the event.\nThe backdrop is blue\, yellow and white and green. The bunny is dressed in red.\nDonations will be accepted for pictures and all money will benefit our Shawnee Island renovations.
URL:https://hatfieldmccoycvb.com/event/city-of-logan-easter-bunny-pictures-candy-parade/
LOCATION:City of Logan\, 219 Dingess Street\, Logan\, WV\, 25601\, United States
END:VEVENT
BEGIN:VEVENT
DTSTART;TZID=UTC:20210403T090000
DTEND;TZID=UTC:20210403T230000
DTSTAMP:20260421T083755
CREATED:20210319T153208Z
LAST-MODIFIED:20210319T153942Z
UID:1380-1617440400-1617490800@hatfieldmccoycvb.com
SUMMARY:38th Annual Sue Browning Wildflower Hike
DESCRIPTION:Welcome in spring at the 38th Annual Sue Browning Wildflower Hike! The hike begins at 9 a.m. and departs from Chief Logan Museum/Gift Shop. This is the traditional spring hike along the  Woodpecker Trail.  The trail is approximately three miles.  Participants will receive a pass for a guided tour of the Wildlife Exhibit with Naturalist Lauren Cole. \nFree to the public.  A great outdoor activity for families.  Please wear comfortable and closed-toe walking or hiking shoes and dress for the weather. \n  \n 
URL:https://hatfieldmccoycvb.com/event/38th-annual-sue-browning-wildflower-hike/
LOCATION:Chief Logan State Park
END:VEVENT
BEGIN:VEVENT
DTSTART;TZID=UTC:20210403T130000
DTEND;TZID=UTC:20210403T150000
DTSTAMP:20260421T083755
CREATED:20210319T153835Z
LAST-MODIFIED:20210319T153835Z
UID:1381-1617454800-1617462000@hatfieldmccoycvb.com
SUMMARY:Shawnee Trail Hike at Chief Logan State Park
DESCRIPTION:  \nCelebrate spring with a hike in the beautiful Chief Logan State Park! The hike begins at 1 pm and departs from Chief Logan Museum/Gift Shop. This is a hike along the Shawnee/Fitness Trail.  The trail is approximately 1.5 miles and is an easy walk.  Participants will receive a pass for a guided tour of the Wildlife Exhibit with Naturalist Lauren Cole. \nFree to the public.  A great outdoor activity for families.  Please wear comfortable and closed-toe walking or hiking shoes and dress for the weather. \n  \n 
URL:https://hatfieldmccoycvb.com/event/shawnee-trail-hike-at-chief-logan-state-park/
LOCATION:Chief Logan State Park
END:VEVENT
BEGIN:VEVENT
DTSTART;TZID=UTC:20210409T160000
DTEND;TZID=UTC:20210409T180000
DTSTAMP:20260421T083755
CREATED:20210319T155634Z
LAST-MODIFIED:20210319T155634Z
UID:1383-1617984000-1617991200@hatfieldmccoycvb.com
SUMMARY:The Cabin Porch
DESCRIPTION:Naturalist Lauren Cole will be welcoming visitors to Chief Logan State Park’s authentic pioneer cabin from 4:00 to 6:00 pm on April 9\, 2021.  Lauren will be entertaining visitors with engaging stories about life on the American Frontier and the history of the cabin. \nSocial distancing must be practiced. Groups of less than 10 will be observed. \nOpen to the public and free of charge. \n 
URL:https://hatfieldmccoycvb.com/event/the-cabin-porch/
LOCATION:Chief Logan State Park
END:VEVENT
BEGIN:VEVENT
DTSTART;TZID=UTC:20210411T100000
DTEND;TZID=UTC:20210411T120000
DTSTAMP:20260421T083755
CREATED:20210319T160620Z
LAST-MODIFIED:20210319T160620Z
UID:1384-1618135200-1618142400@hatfieldmccoycvb.com
SUMMARY:Sunday Morning Beginner's Hike
DESCRIPTION:Join us for a beginners hike at the Chief Logan Lodge and Conference Center.  We will meet at the flag pole at Chief Logan Lodge at 10:00 am on April 11\, 2021.  Learn basic hiking\, outdoor safety\, and Leave No Trace principles.  This is an easy hike but some parts of the trail may have rocks and roots.  Please wear closed-toe hiking shoes and dress for the weather conditions.  This activity is suitable for all ages.  Young children must be accompanied by and adult.  The group will decide the difficulty and distance of the hike.  For more information email lauren.e.cole@wv.gov. \n  \n 
URL:https://hatfieldmccoycvb.com/event/sunday-morning-beginners-hike-6/
LOCATION:Chief Logan Lodge & Conference Center\, 1000 Conference Center Drive\, Logan\, WV\, 25601\, United States
END:VEVENT
BEGIN:VEVENT
DTSTART;TZID=UTC:20210417T200000
DTEND;TZID=UTC:20210417T220000
DTSTAMP:20260421T083755
CREATED:20210416T191003Z
LAST-MODIFIED:20210416T191003Z
UID:1224-1618689600-1618696800@hatfieldmccoycvb.com
SUMMARY:A Starry Saturday Night at the Lodge Telescope Program
DESCRIPTION:Star gazing is amazing! \nWe will meet at Chief Logan Lodge fire pit to look through a computerized telescope at various celestial bodies including the moon\, planets\, galaxies and more. Learn seasonal constellations and other cool facts about the night sky – the potential to see meteors from the Lyrid meteor shower is possible if the sky is clear. In case of rain\, this activity is canceled. \nThis is a free activity.  Your host for the evening is Naturalist Lauren Cole. \n  \n\n\n 
URL:https://hatfieldmccoycvb.com/event/a-starry-saturday-night-at-the-lodge-telescope-program/
LOCATION:Chief Logan Lodge & Conference Center\, 1000 Conference Center Drive\, Logan\, WV\, 25601\, United States
END:VEVENT
BEGIN:VEVENT
DTSTART;TZID=UTC:20210418T100000
DTEND;TZID=UTC:20210418T110000
DTSTAMP:20260421T083755
CREATED:20210416T191605Z
LAST-MODIFIED:20210416T191605Z
UID:1456-1618740000-1618743600@hatfieldmccoycvb.com
SUMMARY:Walk Among the Wildflowers
DESCRIPTION:Wild About Wildflowers is another opportunity to spy spring wildflowers with a park naturalist. \nDid you miss our annual wildflower hike? Don’t worry\, you didn’t miss the flowers\, because\, in spring\, you’ll discover more buds and blooms each week in April and well into May! \nJoin park naturalist Lauren Cole at the flag pole at the Chief Logan Lodge at 10:00 a.m. for an easy walk to observe the spring wildflowers.  We will stop to discuss spring blooms and the relationship between flora and fauna in West Virginia.  The walk will last for one hour. \nFree to attend and open to the public\, this is a good program for folks in garden clubs\, hiking groups\, master naturalist\, or generally curious folks. Families looking for an outdoor activity to learn more about spring wildflowers with youth are encouraged to participate. \n 
URL:https://hatfieldmccoycvb.com/event/walk-among-the-wildflowers/
LOCATION:Chief Logan Lodge & Conference Center\, 1000 Conference Center Drive\, Logan\, WV\, 25601\, United States
END:VEVENT
BEGIN:VEVENT
DTSTART;TZID=UTC:20210423T100000
DTEND;TZID=UTC:20210423T120000
DTSTAMP:20260421T083755
CREATED:20210419T135451Z
LAST-MODIFIED:20210419T135451Z
UID:1461-1619172000-1619179200@hatfieldmccoycvb.com
SUMMARY:Bird Watching at Chief Logan Lodge
DESCRIPTION:Join park Naturalist Lauren Cole on a beginner birding experience at 10:00 am in the main lobby of Chief Logan State Lodge & Conference Center.  Learn binocular use\, basic birding techniques\, easy bird identification\, and more\, as we take a gentle hike up the hill around the cabins.  Bring your binoculars!  We will also have binoculars to loan.  Open to the public and admission is free. \nA good program for folks in garden clubs\, hiking groups\, master naturalists\, or curious folks. A great outdoor activity for families. \nIf you have an interest in interpretive activities and programs like these\, email lauren.e.cole@wv.gov.
URL:https://hatfieldmccoycvb.com/event/bird-watching-at-chief-logan-lodge/
LOCATION:Chief Logan Lodge & Conference Center\, 1000 Conference Center Drive\, Logan\, WV\, 25601\, United States
END:VEVENT
BEGIN:VEVENT
DTSTART;TZID=UTC:20210424T200000
DTEND;TZID=UTC:20210424T220000
DTSTAMP:20260421T083755
CREATED:20210419T135737Z
LAST-MODIFIED:20210419T135737Z
UID:1462-1619294400-1619301600@hatfieldmccoycvb.com
SUMMARY:A Starry Night at the Lodge Telescope Program
DESCRIPTION:Star gazing is amazing! \nWe will meet at Chief Logan Lodge fire pit to look through a computerized telescope at various celestial bodies including the moon\, planets\, galaxies and more. Learn seasonal constellations and other cool facts about the night sky – the potential to see meteors from the Lyrid meteor shower is possible if the sky is clear. In case of rain\, this activity is canceled. \nThis is a free activity.  Your host for the evening is Naturalist Lauren Cole.
URL:https://hatfieldmccoycvb.com/event/a-starry-night-at-the-lodge-telescope-program/
LOCATION:Chief Logan Lodge & Conference Center\, 1000 Conference Center Drive\, Logan\, WV\, 25601\, United States
END:VEVENT
BEGIN:VEVENT
DTSTART;TZID=UTC:20210425T100000
DTEND;TZID=UTC:20210425T120000
DTSTAMP:20260421T083755
CREATED:20210419T140142Z
LAST-MODIFIED:20210419T140142Z
UID:1463-1619344800-1619352000@hatfieldmccoycvb.com
SUMMARY:Sunday Morning Beginner's Hike
DESCRIPTION:Join us for a beginners hike at the Chief Logan Lodge and Conference Center.  We will meet at the flag pole at Chief Logan Lodge at 10:00 am on April 25\, 2021.  Learn basic hiking\, outdoor safety\, and Leave No Trace principles.  This is an easy hike but some parts of the trail may have rocks and roots.  Please wear closed-toe hiking shoes and dress for the weather conditions.  This activity is suitable for all ages.  Young children must be accompanied by and adult.  The group will decide the difficulty and distance of the hike.  For more information email lauren.e.cole@wv.gov.
URL:https://hatfieldmccoycvb.com/event/sunday-morning-beginners-hike-7/
LOCATION:Chief Logan Lodge & Conference Center\, 1000 Conference Center Drive\, Logan\, WV\, 25601\, United States
END:VEVENT
BEGIN:VEVENT
DTSTART;TZID=UTC:20210501T090000
DTEND;TZID=UTC:20210501T160000
DTSTAMP:20260421T083755
CREATED:20210409T194635Z
LAST-MODIFIED:20210409T194635Z
UID:1438-1619859600-1619884800@hatfieldmccoycvb.com
SUMMARY:Logan Shrine Club 7th ATV/SXS Poker Run
DESCRIPTION:Join the Logan Shrine Club for the 7th Annual ATV/SXS Poker Run-Riding for a Reason on Saturday\, May 1\, 2021.  Raffles\, Door Prizes\, Drawings & more.  Price is $10.00 per rider. \n 
URL:https://hatfieldmccoycvb.com/event/logan-shrine-club-7th-atv-sxs-poker-run/
LOCATION:Logan Shrine Club\, 22 Main Avenue\, Logan\, WV\, 25601
END:VEVENT
BEGIN:VEVENT
DTSTART;TZID=UTC:20210521T190000
DTEND;TZID=UTC:20210521T220000
DTSTAMP:20260421T083755
CREATED:20210430T191229Z
LAST-MODIFIED:20210430T191229Z
UID:1484-1621623600-1621634400@hatfieldmccoycvb.com
SUMMARY:Morgan White Live at the Coalfield Jamboree
DESCRIPTION:Live at the Coalfield Jamboree\, Nashville recording artist Morgan White!  Show begins at 7:15 pm\, doors open at 6:15 pm.  For ticket prices and information call 304-752-2900 or 304-687-8511. \n 
URL:https://hatfieldmccoycvb.com/event/morgan-white-live-at-the-coalfield-jamboree/
LOCATION:Coalfield Jamboree\, 308 Main Street\, Logan\, WV\, 25601\, United States
END:VEVENT
BEGIN:VEVENT
DTSTART;TZID=UTC:20210612T150000
DTEND;TZID=UTC:20210612T170000
DTSTAMP:20260421T083755
CREATED:20210504T175614Z
LAST-MODIFIED:20210504T175614Z
UID:1490-1623510000-1623517200@hatfieldmccoycvb.com
SUMMARY:Matewan Massacre presented by Matewan Drama Group
DESCRIPTION:The play Matewan Massacre will be presented by the Matewan Drama Group on June 12\, 2021 at 3:00 pm  in downtown Matewan at the Rotary Pavilion.  The play centers around the Battle of Matewan that occurred on May 19th\, 1920.
URL:https://hatfieldmccoycvb.com/event/matewan-massacre-presented-by-matewan-drama-group/
LOCATION:Rotary Pavilion\, Matewan\, WV\, 25678\, United States
END:VEVENT
BEGIN:VEVENT
DTSTART;VALUE=DATE:20210630
DTEND;VALUE=DATE:20210705
DTSTAMP:20260421T083755
CREATED:20210319T134232Z
LAST-MODIFIED:20210610T151930Z
UID:1375-1625011200-1625443199@hatfieldmccoycvb.com
SUMMARY:West Virginia Freedom Festival
DESCRIPTION:The City of Logan presents the WV Freedom Festival.  The Festival will be held on June 30 and July 1-4\, 2021 in downtown Logan. \nThe events include a carnival with rides and activities for the whole family\, food and beverage vendors\, the Circus Incredible Show\, fireworks and more!  Live performances by One Horse Town\, Hutchinson Brothers Band\, Double Vision Band\, Currytones\, Who’s Bad (Michael Jackson Experience)\, Freedom Street\, Audio Outlaws\, Hammer Down Band\, Parmalee\, Brayden Williamson Band and the Moron Brothers. \nA Gospel Sing and church service will be held on Sunday\, July 4\, 2021. \nClick on link below for a complete schedule of events. \n 
URL:https://hatfieldmccoycvb.com/event/west-virginia-freedom-festival/
LOCATION:City of Logan\, 219 Dingess Street\, Logan\, WV\, 25601\, United States
END:VEVENT
BEGIN:VEVENT
DTSTART;TZID=UTC:20210701T110000
DTEND;TZID=UTC:20210701T130000
DTSTAMP:20260421T083755
CREATED:20210609T200014Z
LAST-MODIFIED:20210630T201319Z
UID:1531-1625137200-1625144400@hatfieldmccoycvb.com
SUMMARY:Picnic with Puddles the Duck - POSTPONED
DESCRIPTION:Free Picnic for all ages. Make and Take coloring corner\, photos with Puddles the Duck\, WV American Water H2O to Go and more. Bring the kids and learn more about United Way of Central WV programs and initiatives. Picnics with Puddles made possible by Toyota. \n  \nPOSTPONED DUE TO RAIN
URL:https://hatfieldmccoycvb.com/event/picnic-with-puddles-the-duck/
LOCATION:Shawnee Island\, Logan\, WV\, 25601\, United States
END:VEVENT
END:VCALENDAR